BEGIN:VCALENDAR
VERSION:2.0
PRODID:icalendar-ruby
CALSCALE:GREGORIAN
METHOD:PUBLISH
BEGIN:VEVENT
DTSTAMP:20260422T073111Z
UID:93-1291709@oakmoundchurch.org
DTSTART:20260706T140000Z
DTEND:20260710T180000Z
CLASS:PUBLIC
CREATED:20260421T230843
DESCRIPTION:Junior Camp\, July 6-10th\, is at the Wood County 4-H Camp faci
 lities. Anyone in grades 3rd-7th grades are invited! There will be food\, 
 games\, singing\, preaching\, skits\, basketball\, water games\, team comp
 etitions and much more. It is a great time for young people to draw closer
  to each other\, but more importantly closer to God. We are excited to see
  how God will work in our young people this year.
LAST-MODIFIED:20260421T230843
LOCATION:Wood County 4-H Camp
SUMMARY:Jr. Camp 2026!
URL;VALUE=URI:https://oakmoundchurch.org/events/jr-camp-2026/2026-07-06
ATTACH;FILENAME=6.png;FMTTYPE=image/png:https://dq5pwpg1q8ru0.cloudfront.ne
 t/2026/04/22/03/08/07/73d5f559-022f-4fad-aeb8-749ce96ec1c1/6.png
END:VEVENT
END:VCALENDAR
