BEGIN:VCALENDAR
VERSION:2.0
PRODID:icalendar-ruby
CALSCALE:GREGORIAN
METHOD:PUBLISH
BEGIN:VEVENT
DTSTAMP:20260422T071750Z
UID:92-1291707@oakmoundchurch.org
DTSTART:20260727T140000Z
DTEND:20260731T200000Z
CLASS:PUBLIC
CREATED:20260421T230719
DESCRIPTION:Teenagers\, you will not want to miss summer camp 2026! Anyone 
 entering 7th grade through graduating seniors are invited! There will be f
 ood\, games\, singing\, preaching\, skits\, basketball\, water games\, pai
 nt ball\, canoeing\, kayaking\, zip-lining\, team competitions\, and much 
 more. It is a great time for young people to draw closer to each other\, b
 ut more importantly closer to God. Pastor Park Sutton from Calvary Baptist
  in Colorado will be preaching! Pastor Park preaches all accross America t
 o teenagers and is a great speaker. We are excited for how God is going to
  work!
LAST-MODIFIED:20260421T230719
LOCATION:Peniel Bible Camp
SUMMARY:Teen Camp 2026!
URL;VALUE=URI:https://oakmoundchurch.org/events/teen-camp-2026/2026-07-27
ATTACH;FILENAME=5.png;FMTTYPE=image/png:https://dq5pwpg1q8ru0.cloudfront.ne
 t/2026/04/22/03/07/19/a773b6ef-75b7-4c03-b108-2fb54dd74ecc/5.png
END:VEVENT
END:VCALENDAR
